BEGIN:VCALENDAR
VERSION:2.0
PRODID:-//Silke Lebender - ECPv6.15.15//NONSGML v1.0//EN
CALSCALE:GREGORIAN
METHOD:PUBLISH
X-WR-CALNAME:Silke Lebender
X-ORIGINAL-URL:https://achtsamkeitskurse-mbsr.de
X-WR-CALDESC:Veranstaltungen für Silke Lebender
REFRESH-INTERVAL;VALUE=DURATION:PT1H
X-Robots-Tag:noindex
X-PUBLISHED-TTL:PT1H
BEGIN:VTIMEZONE
TZID:Europe/Berlin
BEGIN:DAYLIGHT
TZOFFSETFROM:+0100
TZOFFSETTO:+0200
TZNAME:CEST
DTSTART:20220327T010000
END:DAYLIGHT
BEGIN:STANDARD
TZOFFSETFROM:+0200
TZOFFSETTO:+0100
TZNAME:CET
DTSTART:20221030T010000
END:STANDARD
BEGIN:DAYLIGHT
TZOFFSETFROM:+0100
TZOFFSETTO:+0200
TZNAME:CEST
DTSTART:20230326T010000
END:DAYLIGHT
BEGIN:STANDARD
TZOFFSETFROM:+0200
TZOFFSETTO:+0100
TZNAME:CET
DTSTART:20231029T010000
END:STANDARD
BEGIN:DAYLIGHT
TZOFFSETFROM:+0100
TZOFFSETTO:+0200
TZNAME:CEST
DTSTART:20240331T010000
END:DAYLIGHT
BEGIN:STANDARD
TZOFFSETFROM:+0200
TZOFFSETTO:+0100
TZNAME:CET
DTSTART:20241027T010000
END:STANDARD
END:VTIMEZONE
BEGIN:VEVENT
DTSTART;TZID=Europe/Berlin:20231103T100000
DTEND;TZID=Europe/Berlin:20231103T123000
DTSTAMP:20260421T114500
CREATED:20230913T085102Z
LAST-MODIFIED:20231016T210737Z
UID:553-1699005600-1699014600@achtsamkeitskurse-mbsr.de
SUMMARY:MBSR - Kurs 7 Termin 2
DESCRIPTION:MBSR Kurs 7\nvom 27.10. - 15.12.2023\nStressbewältigung durch Achtsamkeit nach Prof. Dr. Jon Kabat-Zinn \n			\n				Anmeldung zum Vorgespräch\n			\n			\n				\n				\n				\n				\n			\n				\n				\n			\n				\n				\n				\n				\n				\n				\n				\n				\n				\n				\n				\n				\n				\n				\n				\n				\n				\n				Termine\n7.1 Freitag 27.10.20237.2 Freitag 03.11.20237.3 Freitag 10.11.20237.4 Freitag 17.11.20237.5 Freitag 24.11.20237.6 Freitag 01.12.20237.7 Freitag 08.12.20237.8 Freitag 15.12.2023 \n			\n			\n				\n				\n				\n				\n				\n				\n				\n				\n				\n				Kursort\nYogahausBrauerstraße 32 a21244 Buchholz in der Nordheide \nKursinformationen\nvon 10:00 bis 12:30 Uhr \n			\n			\n				\n				\n				\n				\n			\n				\n				\n				\n				\n				\n				\n				\n				\n				\n				\n				\n					\n					\n						Achtsamkeitstag\n						von 10:00 bis 16:00h \nSonntag 03.12.2023 \n					\n				\n			\n			\n				\n				\n				\n				\n				\n				\n				\n				\n				\n				Kursgebühr: 380 €\nErmäßigung auf Anfrage möglich. \n			\n			\n				\n				\n				\n				\n			\n				\n				\n				\n				\n				\n				\n				mehr über MBSR
URL:https://achtsamkeitskurse-mbsr.de/kurs/mbsr-7-2/
LOCATION:Yogahaus\, Brauerstraße 32 a\, Buchholz in der Nordheide\, Niedersachsen\, 21244\, Deutschland
CATEGORIES:MBSR 7
END:VEVENT
BEGIN:VEVENT
DTSTART;TZID=Europe/Berlin:20231110T100000
DTEND;TZID=Europe/Berlin:20231110T123000
DTSTAMP:20260421T114500
CREATED:20230913T091249Z
LAST-MODIFIED:20231016T210551Z
UID:560-1699610400-1699619400@achtsamkeitskurse-mbsr.de
SUMMARY:MBSR - Kurs 7 Termin 3
DESCRIPTION:MBSR Kurs 7\nvom 27.10. - 15.12.2023\nStressbewältigung durch Achtsamkeit nach Prof. Dr. Jon Kabat-Zinn \n			\n				Anmeldung zum Vorgespräch\n			\n			\n				\n				\n				\n				\n			\n				\n				\n			\n				\n				\n				\n				\n				\n				\n				\n				\n				\n				\n				\n				\n				\n				\n				\n				\n				\n				Termine\n7.1 Freitag 27.10.20237.2 Freitag 03.11.20237.3 Freitag 10.11.20237.4 Freitag 17.11.20237.5 Freitag 24.11.20237.6 Freitag 01.12.20237.7 Freitag 08.12.20237.8 Freitag 15.12.2023 \n			\n			\n				\n				\n				\n				\n				\n				\n				\n				\n				\n				Kursort\nYogahausBrauerstraße 32 a21244 Buchholz in der Nordheide \nKursinformationen\nvon 10:00 bis 12:30 Uhr \n			\n			\n				\n				\n				\n				\n			\n				\n				\n				\n				\n				\n				\n				\n				\n				\n				\n				\n					\n					\n						Achtsamkeitstag\n						von 10:00 bis 16:00h \nSonntag 03.12.2023 \n					\n				\n			\n			\n				\n				\n				\n				\n				\n				\n				\n				\n				\n				Kursgebühr: 380 €\nErmäßigung auf Anfrage möglich. \n			\n			\n				\n				\n				\n				\n			\n				\n				\n				\n				\n				\n				\n				mehr über MBSR
URL:https://achtsamkeitskurse-mbsr.de/kurs/mbsr-7-3/
LOCATION:Yogahaus\, Brauerstraße 32 a\, Buchholz in der Nordheide\, Niedersachsen\, 21244\, Deutschland
CATEGORIES:MBSR 7
END:VEVENT
BEGIN:VEVENT
DTSTART;TZID=Europe/Berlin:20231117T100000
DTEND;TZID=Europe/Berlin:20231117T123000
DTSTAMP:20260421T114500
CREATED:20230913T095336Z
LAST-MODIFIED:20231016T210402Z
UID:568-1700215200-1700224200@achtsamkeitskurse-mbsr.de
SUMMARY:MBSR - Kurs 7 Termin 4
DESCRIPTION:MBSR Kurs 7\nvom 27.10. - 15.12.2023\nStressbewältigung durch Achtsamkeit nach Prof. Dr. Jon Kabat-Zinn \n			\n				Anmeldung zum Vorgespräch\n			\n			\n				\n				\n				\n				\n			\n				\n				\n			\n				\n				\n				\n				\n				\n				\n				\n				\n				\n				\n				\n				\n				\n				\n				\n				\n				\n				Termine\n7.1 Freitag 27.10.20237.2 Freitag 03.11.20237.3 Freitag 10.11.20237.4 Freitag 17.11.20237.5 Freitag 24.11.20237.6 Freitag 01.12.20237.7 Freitag 08.12.20237.8 Freitag 15.12.2023 \n			\n			\n				\n				\n				\n				\n				\n				\n				\n				\n				\n				Kursort\nYogahausBrauerstraße 32 a21244 Buchholz in der Nordheide \nKursinformationen\nvon 10:00 bis 12:30 Uhr \n			\n			\n				\n				\n				\n				\n			\n				\n				\n				\n				\n				\n				\n				\n				\n				\n				\n				\n					\n					\n						Achtsamkeitstag\n						von 10:00 bis 16:00h \nSonntag 03.12.2023 \n					\n				\n			\n			\n				\n				\n				\n				\n				\n				\n				\n				\n				\n				Kursgebühr: 380 €\nErmäßigung auf Anfrage möglich. \n			\n			\n				\n				\n				\n				\n			\n				\n				\n				\n				\n				\n				\n				mehr über MBSR
URL:https://achtsamkeitskurse-mbsr.de/kurs/mbsr-7-4/
LOCATION:Yogahaus\, Brauerstraße 32 a\, Buchholz in der Nordheide\, Niedersachsen\, 21244\, Deutschland
CATEGORIES:MBSR 7
END:VEVENT
BEGIN:VEVENT
DTSTART;TZID=Europe/Berlin:20231124T100000
DTEND;TZID=Europe/Berlin:20231124T123000
DTSTAMP:20260421T114500
CREATED:20230913T100326Z
LAST-MODIFIED:20231016T210223Z
UID:574-1700820000-1700829000@achtsamkeitskurse-mbsr.de
SUMMARY:MBSR - Kurs 7 Termin 5
DESCRIPTION:MBSR Kurs 7\nvom 27.10. - 15.12.2023\nStressbewältigung durch Achtsamkeit nach Prof. Dr. Jon Kabat-Zinn \n			\n				Anmeldung zum Vorgespräch\n			\n			\n				\n				\n				\n				\n			\n				\n				\n			\n				\n				\n				\n				\n				\n				\n				\n				\n				\n				\n				\n				\n				\n				\n				\n				\n				\n				Termine\n7.1 Freitag 27.10.20237.2 Freitag 03.11.20237.3 Freitag 10.11.20237.4 Freitag 17.11.20237.5 Freitag 24.11.20237.6 Freitag 01.12.20237.7 Freitag 08.12.20237.8 Freitag 15.12.2023 \n			\n			\n				\n				\n				\n				\n				\n				\n				\n				\n				\n				Kursort\nYogahausBrauerstraße 32 a21244 Buchholz in der Nordheide \nKursinformationen\nvon 10:00 bis 12:30 Uhr \n			\n			\n				\n				\n				\n				\n			\n				\n				\n				\n				\n				\n				\n				\n				\n				\n				\n				\n					\n					\n						Achtsamkeitstag\n						von 10:00 bis 16:00h \nSonntag 03.12.2023 \n					\n				\n			\n			\n				\n				\n				\n				\n				\n				\n				\n				\n				\n				Kursgebühr: 380 €\nErmäßigung auf Anfrage möglich. \n			\n			\n				\n				\n				\n				\n			\n				\n				\n				\n				\n				\n				\n				mehr über MBSR
URL:https://achtsamkeitskurse-mbsr.de/kurs/mbsr-7-5/
LOCATION:Yogahaus\, Brauerstraße 32 a\, Buchholz in der Nordheide\, Niedersachsen\, 21244\, Deutschland
CATEGORIES:MBSR 7
END:VEVENT
END:VCALENDAR